BEGIN:VCALENDAR
VERSION:2.0
PRODID:-//Center for Media Engagement - ECPv6.15.17.1//NONSGML v1.0//EN
CALSCALE:GREGORIAN
METHOD:PUBLISH
X-WR-CALNAME:Center for Media Engagement
X-ORIGINAL-URL:https://mediaengagement.org
X-WR-CALDESC:Events for Center for Media Engagement
REFRESH-INTERVAL;VALUE=DURATION:PT1H
X-Robots-Tag:noindex
X-PUBLISHED-TTL:PT1H
BEGIN:VTIMEZONE
TZID:America/Chicago
BEGIN:DAYLIGHT
TZOFFSETFROM:-0600
TZOFFSETTO:-0500
TZNAME:CDT
DTSTART:20200308T080000
END:DAYLIGHT
BEGIN:STANDARD
TZOFFSETFROM:-0500
TZOFFSETTO:-0600
TZNAME:CST
DTSTART:20201101T070000
END:STANDARD
BEGIN:DAYLIGHT
TZOFFSETFROM:-0600
TZOFFSETTO:-0500
TZNAME:CDT
DTSTART:20210314T080000
END:DAYLIGHT
BEGIN:STANDARD
TZOFFSETFROM:-0500
TZOFFSETTO:-0600
TZNAME:CST
DTSTART:20211107T070000
END:STANDARD
BEGIN:DAYLIGHT
TZOFFSETFROM:-0600
TZOFFSETTO:-0500
TZNAME:CDT
DTSTART:20220313T080000
END:DAYLIGHT
BEGIN:STANDARD
TZOFFSETFROM:-0500
TZOFFSETTO:-0600
TZNAME:CST
DTSTART:20221106T070000
END:STANDARD
END:VTIMEZONE
BEGIN:VEVENT
DTSTART;TZID=America/Chicago:20210302T153000
DTEND;TZID=America/Chicago:20210302T170000
DTSTAMP:20260419T082639
CREATED:20210224T192238Z
LAST-MODIFIED:20250626T222528Z
UID:15952-1614699000-1614704400@mediaengagement.org
SUMMARY:Overdoing Democracy: The Problem of Political Polarization
DESCRIPTION:Democracy is such an important social good that it seems natural to think that more is always better. However\, we also recognize that it’s possible to have too much of a good thing. In this talk\, Robert Talisse (Vanderbilt University) draws from current findings regarding political polarization to argue that\, as important a social good as democracy is\, it is nonetheless possible for citizens to overdo it. Today\, our everyday activities are increasingly fused with our political profiles: commercial spaces\, workplaces\, professions\, schools\, churches\, sports teams\, and even public parks now tend to embody a particular political valence. When politics is permitted to saturate our social environments\, we impair the capacities we need in order to enact democracy well. In a slogan\, when we overdo democracy in this way\, we undermine it. The solution is to build venues and activities where people can engage in cooperative activities together in which their political identities are neither bolstered nor suppressed\, but simply beside the point. If we want to do democracy well\, we need to put politics in its right place. \nDr. Robert B. Talisse is the W. Alton Jones Professor of Philosophy at Vanderbilt University. An internationally recognized theorist of democracy\, Talisse has lectured throughout the world about democracy\, moral disagreement\, political polarization\, and the ethics of citizenship. Overdoing Democracy: Why We Must Put Politics in its Place is his tenth book. Among the books he has authored are Why We Argue (And How We  Should) (with Scott Aikin)\, Democracy and Moral Conflict\, A Pragmatist Philosophy of Democracy\, and Democracy After Liberalism. \nThe Media Ethics Initiative is part of the Center for Media Engagement at the University of Texas at Austin. Follow Media Ethics Initiative and Center for Media Engagement on Facebook for more information. \nMedia Ethics Initiative events are open and free to the public. Register here for the link: https://utexas.zoom.us/webinar/register/WN_SQ-RSWG1ThycKmdlJsosbA
URL:https://mediaengagement.org/event/overdoing-democracy-the-problem-of-political-polarization/
LOCATION:TX
ATTACH;FMTTYPE=image/jpeg:https://mediaengagement.org/wp-content/uploads/2021/02/Overdoing-Democracy.jpg
END:VEVENT
BEGIN:VEVENT
DTSTART;VALUE=DATE:20210304
DTEND;VALUE=DATE:20210306
DTSTAMP:20260419T082639
CREATED:20210111T210145Z
LAST-MODIFIED:20210224T193222Z
UID:15710-1614816000-1614988799@mediaengagement.org
SUMMARY:COGSEC Conference
DESCRIPTION:The Center for Media Engagement is proud to host COGSEC\, an online conference that will bring together a community of practitioners on the front lines of dealing with and actively combatting the efforts of malign actors online. \nCOGSEC will be hosted virtually March 4-5 and will serve as a forum for sharing what works and what doesn’t\, for piecing together knowledge about the state-of-the-art tactics being used by malicious actors in the field\, and for building the ethical norms of security research in this domain. \nThe conference will feature practical workshops on hunting and neutralizing online influence campaigns. We invite students\, scholars\, journalists\, activists\, NGO professionals\, and anyone with an interest in the real-world tools and techniques being used to deal with media manipulation threats in the field. \nTickets are $10 for general admission\, $5 for anyone with a valid .edu email address\, and free for students at UT-Austin. \nRegister now: https://hopin.com/events/cogsec-2021 \nLearn more: https://cogsec.online/conference
URL:https://mediaengagement.org/event/cogsec-conference/
LOCATION:TX
ATTACH;FMTTYPE=image/jpeg:https://mediaengagement.org/wp-content/uploads/2021/01/COGSEC-Conference.jpg
END:VEVENT
BEGIN:VEVENT
DTSTART;VALUE=DATE:20210316
DTEND;VALUE=DATE:20210321
DTSTAMP:20260419T082639
CREATED:20210312T221436Z
LAST-MODIFIED:20210312T232631Z
UID:16051-1615852800-1616284799@mediaengagement.org
SUMMARY:SXSW Panel: “How Newsrooms Can Help Bridge Divides”
DESCRIPTION:Join the Center for Media Engagement at SXSW for an in-depth discussion on “How Newsrooms Can Help Bridge Divides.” We’ll be hosting a virtual viewing party and chat on Wednesday\, March 17 at 2:00 p.m. Central on our session page: http://bit.ly/CMEatSXSW. Can’t make it? No problem. Our panel is available for streaming starting Tuesday\, March 16 also on the session page. \nSpeakers: \nGina Masullo\, Center for Media Engagement\nAlicia Bell\, Free Press\nErica Anderson\, Spaceship Media \nDetails: \nOur society is witnessing an entrenchment of divisiveness – the media versus the public\, Democrats versus Republicans\, urban versus rural – that is so deep it even influences whether people wear masks during a global pandemic. A new approach\, called connective democracy\, seeks to bridge these divides by identifying strategies for getting people to talk across differences. Newsrooms can play a transformative role in this effort. \nThis panel will offer clear takeaways for newsroom leaders and journalists about how they can use the principles of connective democracy to better connect with and retain an audience. Connective democracy offers a roadmap to help newsrooms better understand their communities and humanize those with diverse views to help people appreciate other perspectives.
URL:https://mediaengagement.org/event/sxsw-panel-how-newsrooms-can-help-bridge-divides/
LOCATION:TX
ATTACH;FMTTYPE=image/png:https://mediaengagement.org/wp-content/uploads/2021/03/SXSW-Web2.png
END:VEVENT
END:VCALENDAR